BEGIN:VCALENDAR
VERSION:2.0
PRODID:-//British Muslim Students - ECPv6.15.12.2//NONSGML v1.0//EN
CALSCALE:GREGORIAN
METHOD:PUBLISH
X-WR-CALNAME:British Muslim Students
X-ORIGINAL-URL:https://britishmuslimstudents.co.uk
X-WR-CALDESC:Events for British Muslim Students
REFRESH-INTERVAL;VALUE=DURATION:PT1H
X-Robots-Tag:noindex
X-PUBLISHED-TTL:PT1H
BEGIN:VTIMEZONE
TZID:UTC
BEGIN:STANDARD
TZOFFSETFROM:+0000
TZOFFSETTO:+0000
TZNAME:UTC
DTSTART:20240101T000000
END:STANDARD
END:VTIMEZONE
BEGIN:VEVENT
DTSTART;VALUE=DATE:20250911
DTEND;VALUE=DATE:20250912
DTSTAMP:20260423T215647
CREATED:20260407T115544Z
LAST-MODIFIED:20260410T130537Z
UID:4043-1757548800-1757635199@britishmuslimstudents.co.uk
SUMMARY:Monthly Lecture Online New Year New Start: Navigating University Life as a Muslim Student
DESCRIPTION:New Year\, New Start \nJoin us as we discuss ways of how to successfully navigate through university life while keeping your Muslim identity intact. \nThe lecture will be delivered by Shaykh Yahya Ibrahim on Wednesday 11th September at 2.30pm
URL:https://britishmuslimstudents.co.uk/event/monthly-lecture-online-new-year-new-start-navigating-university-life-as-a-muslim-student/
ATTACH;FMTTYPE=image/png:https://britishmuslimstudents.co.uk/wp-content/uploads/2026/04/Screenshot-2026-04-07-181128.png
ORGANIZER;CN="BMS":MAILTO:bookings@britishmuslimstudents.org
END:VEVENT
END:VCALENDAR