BEGIN:VCALENDAR
VERSION:2.0
PRODID:-//British Muslim Students - ECPv6.15.12.2//NONSGML v1.0//EN
CALSCALE:GREGORIAN
METHOD:PUBLISH
X-WR-CALNAME:British Muslim Students
X-ORIGINAL-URL:https://britishmuslimstudents.co.uk
X-WR-CALDESC:Events for British Muslim Students
REFRESH-INTERVAL;VALUE=DURATION:PT1H
X-Robots-Tag:noindex
X-PUBLISHED-TTL:PT1H
BEGIN:VTIMEZONE
TZID:UTC
BEGIN:STANDARD
TZOFFSETFROM:+0000
TZOFFSETTO:+0000
TZNAME:UTC
DTSTART:20240101T000000
END:STANDARD
END:VTIMEZONE
BEGIN:VEVENT
DTSTART;VALUE=DATE:20251112
DTEND;VALUE=DATE:20251123
DTSTAMP:20260423T204948
CREATED:20260407T112858Z
LAST-MODIFIED:20260410T134933Z
UID:4027-1762905600-1763855999@britishmuslimstudents.co.uk
SUMMARY:2025 Student Umrah Seerah Tour
DESCRIPTION:2025 Student Umrah Seerah Tour 🕋✨ \nIn collaboration with @islamwise With Shaykh @wasimkempson \nWalk the streets the Prophet ﷺ walked\, reflect deeply\, and revive your connection to Allah through sacred history. \nA powerful\, seerah-based journey designed for students\, graduates and working professionals passionate about the life of the Prophet ﷺ and the empowering legacy of Islam. \n🗓 12th–22nd November 2025\n🏨 10 nights | 4 & 5★ hotels | Return flights & transfers\n📖 Daily Seerah tours\, reflections\, and guided reminders\n🕌 Led by qualified religious mentors\n🎓 Perfect for students seeking an Umrah experience that’s meaningful\, spiritually grounded\, and rooted in knowledge.
URL:https://britishmuslimstudents.co.uk/event/2025-student-umrah-seerah-tour/
ATTACH;FMTTYPE=image/png:https://britishmuslimstudents.co.uk/wp-content/uploads/2026/04/Screenshot-2026-04-07-174745.png
ORGANIZER;CN="BMS":MAILTO:bookings@britishmuslimstudents.org
END:VEVENT
BEGIN:VEVENT
DTSTART;VALUE=DATE:20251114
DTEND;VALUE=DATE:20251117
DTSTAMP:20260423T204948
CREATED:20260128T201832Z
LAST-MODIFIED:20260409T115555Z
UID:3662-1763078400-1763337599@britishmuslimstudents.co.uk
SUMMARY:REVIVE: A Journey to Reconnect Masjid Retreat
DESCRIPTION:🌙 REVIVE: A Journey to Reconnect \nStep away from the noise. Reconnect with your faith. Reignite your purpose. 💫 \nJoin students and ISoc members from across the UK for an unforgettable weekend retreat – filled with reflection\, companionship\, and late-night reminders that stay with you long after you return home. \n🏠 Masjid accommodation\n🕌 Inspiring workshops\n🌙 Qiyaam & Fajr reminders\n🤝 Brotherhood & sisterhood \n🎙 With:\nShaykh Yahya Ibrahim @yahya_adel_ibrahim\nShaykh Mustafa Abu Rayyan @mustafa_aburayyan\nUstadh Anas Tayib @anas.tayib \n📍 Green Lane Masjid\, Birmingham\n📅 14–16 November 2025
URL:https://britishmuslimstudents.co.uk/event/revive-a-journey-to-reconnect-masjid-retreat/
ATTACH;FMTTYPE=image/webp:https://britishmuslimstudents.co.uk/wp-content/uploads/2026/01/573470619_18060511502631235_4244447263803751590_n.webp
ORGANIZER;CN="BMS":MAILTO:bookings@britishmuslimstudents.org
END:VEVENT
BEGIN:VEVENT
DTSTART;TZID=UTC:20260418T143000
DTEND;TZID=UTC:20260418T153000
DTSTAMP:20260423T204948
CREATED:20260402T125448Z
LAST-MODIFIED:20260402T131729Z
UID:4017-1776522600-1776526200@britishmuslimstudents.co.uk
SUMMARY:BMS Monthly Online Imam Q&A
DESCRIPTION:BMS Monthly Online Imam Q&A\n\n\nHave questions about faith\, university life\, doubts\, identity or the pressures that come with student life? \nThis monthly online Q&A gives university students the opportunity to register\, submit questions  and benefit from clear\, thoughtful answers in a welcoming setting. \n Time: 2:30pm – 3:30pm Day: Saturday\, 18 April (online)  \nAnonymous questions welcomed.
URL:https://britishmuslimstudents.co.uk/event/bms-monthly-online-imam-qa/
ATTACH;FMTTYPE=image/jpeg:https://britishmuslimstudents.co.uk/wp-content/uploads/2026/04/1.jpg-7sdc.jpeg
ORGANIZER;CN="BMS":MAILTO:bookings@britishmuslimstudents.org
END:VEVENT
END:VCALENDAR