BEGIN:VCALENDAR
VERSION:2.0
PRODID:-//British Muslim Students - ECPv6.15.12.2//NONSGML v1.0//EN
CALSCALE:GREGORIAN
METHOD:PUBLISH
X-WR-CALNAME:British Muslim Students
X-ORIGINAL-URL:https://britishmuslimstudents.co.uk
X-WR-CALDESC:Events for British Muslim Students
REFRESH-INTERVAL;VALUE=DURATION:PT1H
X-Robots-Tag:noindex
X-PUBLISHED-TTL:PT1H
BEGIN:VTIMEZONE
TZID:UTC
BEGIN:STANDARD
TZOFFSETFROM:+0000
TZOFFSETTO:+0000
TZNAME:UTC
DTSTART:20200101T000000
END:STANDARD
END:VTIMEZONE
BEGIN:VEVENT
DTSTART;VALUE=DATE:20251114
DTEND;VALUE=DATE:20251117
DTSTAMP:20260423T183441
CREATED:20260128T201832Z
LAST-MODIFIED:20260409T115555Z
UID:3662-1763078400-1763337599@britishmuslimstudents.co.uk
SUMMARY:REVIVE: A Journey to Reconnect Masjid Retreat
DESCRIPTION:🌙 REVIVE: A Journey to Reconnect \nStep away from the noise. Reconnect with your faith. Reignite your purpose. 💫 \nJoin students and ISoc members from across the UK for an unforgettable weekend retreat – filled with reflection\, companionship\, and late-night reminders that stay with you long after you return home. \n🏠 Masjid accommodation\n🕌 Inspiring workshops\n🌙 Qiyaam & Fajr reminders\n🤝 Brotherhood & sisterhood \n🎙 With:\nShaykh Yahya Ibrahim @yahya_adel_ibrahim\nShaykh Mustafa Abu Rayyan @mustafa_aburayyan\nUstadh Anas Tayib @anas.tayib \n📍 Green Lane Masjid\, Birmingham\n📅 14–16 November 2025
URL:https://britishmuslimstudents.co.uk/event/revive-a-journey-to-reconnect-masjid-retreat/
ATTACH;FMTTYPE=image/webp:https://britishmuslimstudents.co.uk/wp-content/uploads/2026/01/573470619_18060511502631235_4244447263803751590_n.webp
ORGANIZER;CN="BMS":MAILTO:bookings@britishmuslimstudents.org
END:VEVENT
BEGIN:VEVENT
DTSTART;VALUE=DATE:20251112
DTEND;VALUE=DATE:20251123
DTSTAMP:20260423T183442
CREATED:20260407T112858Z
LAST-MODIFIED:20260410T134933Z
UID:4027-1762905600-1763855999@britishmuslimstudents.co.uk
SUMMARY:2025 Student Umrah Seerah Tour
DESCRIPTION:2025 Student Umrah Seerah Tour 🕋✨ \nIn collaboration with @islamwise With Shaykh @wasimkempson \nWalk the streets the Prophet ﷺ walked\, reflect deeply\, and revive your connection to Allah through sacred history. \nA powerful\, seerah-based journey designed for students\, graduates and working professionals passionate about the life of the Prophet ﷺ and the empowering legacy of Islam. \n🗓 12th–22nd November 2025\n🏨 10 nights | 4 & 5★ hotels | Return flights & transfers\n📖 Daily Seerah tours\, reflections\, and guided reminders\n🕌 Led by qualified religious mentors\n🎓 Perfect for students seeking an Umrah experience that’s meaningful\, spiritually grounded\, and rooted in knowledge.
URL:https://britishmuslimstudents.co.uk/event/2025-student-umrah-seerah-tour/
ATTACH;FMTTYPE=image/png:https://britishmuslimstudents.co.uk/wp-content/uploads/2026/04/Screenshot-2026-04-07-174745.png
ORGANIZER;CN="BMS":MAILTO:bookings@britishmuslimstudents.org
END:VEVENT
BEGIN:VEVENT
DTSTART;VALUE=DATE:20250911
DTEND;VALUE=DATE:20250912
DTSTAMP:20260423T183442
CREATED:20260407T115544Z
LAST-MODIFIED:20260410T130537Z
UID:4043-1757548800-1757635199@britishmuslimstudents.co.uk
SUMMARY:Monthly Lecture Online New Year New Start: Navigating University Life as a Muslim Student
DESCRIPTION:New Year\, New Start \nJoin us as we discuss ways of how to successfully navigate through university life while keeping your Muslim identity intact. \nThe lecture will be delivered by Shaykh Yahya Ibrahim on Wednesday 11th September at 2.30pm
URL:https://britishmuslimstudents.co.uk/event/monthly-lecture-online-new-year-new-start-navigating-university-life-as-a-muslim-student/
ATTACH;FMTTYPE=image/png:https://britishmuslimstudents.co.uk/wp-content/uploads/2026/04/Screenshot-2026-04-07-181128.png
ORGANIZER;CN="BMS":MAILTO:bookings@britishmuslimstudents.org
END:VEVENT
BEGIN:VEVENT
DTSTART;TZID=UTC:20250507T180000
DTEND;TZID=UTC:20250507T210000
DTSTAMP:20260423T183442
CREATED:20260407T113339Z
LAST-MODIFIED:20260409T115829Z
UID:4029-1746640800-1746651600@britishmuslimstudents.co.uk
SUMMARY:Heartwork: Cultivate Your Heart\, Perfect Your Actions
DESCRIPTION:LIVE BMS Online Conference | Sisters Only \nHeartwork is an online conference focusing on the state of our hearts and the inner workings of sincerity that directly influence our actions. As exam season approaches\, let’s reflect\, recharge\, and realign our intentions together for this spiritually uplifting and heart-softening occasion. \nDiscover how nurturing sincerity and mindfulness of the heart can transform your approach to exams\, studies\, and life! \n▪️ Actualising Sincerity: The Action of the Heart – Ustadhah Unaysa @umalkiraam\n▪️ Heartwork in the Exams and Deadlines of Life – Sidrah Awan\n▪️The Inner-Workings of the Heart that propels Ihsan – Ustadhah Jijo \n📚💫 Nurture sincerity\, boost mindfulness\, and transform your approach to studies… and life itself!
URL:https://britishmuslimstudents.co.uk/event/%f0%9d%97%9b%f0%9d%97%b2%f0%9d%97%ae%f0%9d%97%bf%f0%9d%98%81%f0%9d%98%84%f0%9d%97%bc%f0%9d%97%bf%f0%9d%97%b8-%f0%9d%97%96%f0%9d%98%82%f0%9d%97%b9%f0%9d%98%81%f0%9d%97%b6%f0%9d%98%83%f0%9d%97%ae/
ATTACH;FMTTYPE=image/png:https://britishmuslimstudents.co.uk/wp-content/uploads/2026/04/Screenshot-2026-04-07-174819.png
ORGANIZER;CN="BMS":MAILTO:bookings@britishmuslimstudents.org
END:VEVENT
BEGIN:VEVENT
DTSTART;VALUE=DATE:20250224
DTEND;VALUE=DATE:20250225
DTSTAMP:20260423T183442
CREATED:20260407T115232Z
LAST-MODIFIED:20260407T125357Z
UID:4038-1740355200-1740441599@britishmuslimstudents.co.uk
SUMMARY:Discover Islam Month Speaker Tour
DESCRIPTION:Exciting News for ISocs this Discover Islam Month! 🎉 \nWe at British Muslim Students (BMS) are thrilled to partner with @fosischannel to source inspiring\, qualified and experienced speakers passionate about sharing the beauty ofIslam for Islamic Societies across England for Discover Islam Month this February! \n📍 Covering London\, the Midlands\, and the North\, our goal is to support ISocs in making this month impactful and memorable. Whether you’re planning talks\, Q&A sessions\, or workshops\, we’ve got you covered. \n📍 Regions Covered: London\, Midlands\, and the North.\n📆 Availability: Throughout February. \nLet’s work together to make this Discover Islam Month one to remember!
URL:https://britishmuslimstudents.co.uk/event/discover-islam-month-speaker-tour/
ATTACH;FMTTYPE=image/png:https://britishmuslimstudents.co.uk/wp-content/uploads/2026/04/Screenshot-2026-04-07-175218.png
ORGANIZER;CN="BMS":MAILTO:bookings@britishmuslimstudents.org
END:VEVENT
BEGIN:VEVENT
DTSTART;TZID=UTC:20250215T143000
DTEND;TZID=UTC:20250215T163000
DTSTAMP:20260423T183442
CREATED:20260407T114250Z
LAST-MODIFIED:20260409T120106Z
UID:4032-1739629800-1739637000@britishmuslimstudents.co.uk
SUMMARY:Ramadan Lecture: Welcoming Ramadan
DESCRIPTION:Ramadan Conference – A Time for Change 🌙 \n✨ Exclusive Islamwise Session: Welcoming Ramadan ✨ \nGet ready for Ramadan with an inspiring Ramadan Conference! Join us for a day of uplifting reminders\, practical guidance\, and motivational talks to help you make the most of this blessed month. \n📅 Saturday 15th February\n📍 Green Lane Masjid\n🕑 2:15 PM – Before the main conference \n🔹 A special session tailored for converts and new Muslims\, offering a deeper understanding of Ramadan and what to expect. Open to everyone! \nDon’t miss this opportunity to start Ramadan on the best note! See you there\, Insha’Allah.
URL:https://britishmuslimstudents.co.uk/event/ramadan-lecture-welcoming-ramadan/
ATTACH;FMTTYPE=image/png:https://britishmuslimstudents.co.uk/wp-content/uploads/2026/04/Screenshot-2026-04-07-174928.png
ORGANIZER;CN="BMS":MAILTO:bookings@britishmuslimstudents.org
END:VEVENT
BEGIN:VEVENT
DTSTART;VALUE=DATE:20250215
DTEND;VALUE=DATE:20250216
DTSTAMP:20260423T183442
CREATED:20260407T114606Z
LAST-MODIFIED:20260410T130510Z
UID:4035-1739577600-1739663999@britishmuslimstudents.co.uk
SUMMARY:Ramadan Conference: A Time For Change
DESCRIPTION:Ramadan Revolution presents ‘Ramadan Conference: A Time For Change’ \nJoin us at the Masjid (or online) for a transformative pre-ramadan conference where you can prepare your hearts and minds for the best month of the year. \nWe will be covering:\n▪️School of Taqwā by Ustādh @abdulahaddayib\n▪️The Month of Qur’ān by our Imām and Qārī Zakaullah Saleem\n▪️Fiqh of Ramaḍān by Sheikh @mustafa_aburayyan\n▪️The Month of Tawbah by our guest speaker. \n▪️ Exclusive @islamwise Talk – For those who may need extra support\, Islamwise will be hosting a special session to help you this Ramadan and answer any questions you may have. \n📅 Saturday 15th of February\n📍Onsite at @greenlanemosque or Online for those who can’t make it.
URL:https://britishmuslimstudents.co.uk/event/ramadan-conference-a-time-for-change/
ATTACH;FMTTYPE=image/png:https://britishmuslimstudents.co.uk/wp-content/uploads/2026/04/Screenshot-2026-04-07-175035.png
ORGANIZER;CN="BMS":MAILTO:bookings@britishmuslimstudents.org
END:VEVENT
BEGIN:VEVENT
DTSTART;TZID=UTC:20250130T160000
DTEND;TZID=UTC:20250130T180000
DTSTAMP:20260423T183442
CREATED:20260407T115054Z
LAST-MODIFIED:20260409T120553Z
UID:4037-1738252800-1738260000@britishmuslimstudents.co.uk
SUMMARY:Sister Special: Monthly Reflective Online Study Circle
DESCRIPTION:Living our Lives according to Al-Fatiha \n🌸 𝐒𝐢𝐬𝐭𝐞𝐫𝐬 𝐒𝐩𝐞𝐜𝐢𝐚𝐥: 𝐌𝐨𝐧𝐭𝐡𝐥𝐲 𝐑𝐞𝐟𝐥𝐞𝐜𝐭𝐢𝐯𝐞 𝐒𝐭𝐮𝐝𝐲 𝐂𝐢𝐫𝐜𝐥𝐞 🌸 \n✨ In collaboration with @greenlanemosque and @thesunnahmedics in 🇧🇬 we invite all sisters across 🇬🇧 and Europe to join our Monthly Reflective Study Circle—a space to: \n🕊️ Develop the soul.\n🤝 Connect with like-minded individuals.\n🕌 Strengthen your faith.\n💖 Build hearts and character. \n📅 First Session: This Thursday\, 30th January\n⏰ Time: 4 PM UK / 6 PM Bulgaria\n🌸 Open to all sisters! \nDon’t miss this beautiful opportunity to grow spiritually and strengthen your connection to Allah. Come along and bring a friend! 🌟
URL:https://britishmuslimstudents.co.uk/event/sister-special-monthly-reflective-online-study-circle/
ATTACH;FMTTYPE=image/png:https://britishmuslimstudents.co.uk/wp-content/uploads/2026/04/Screenshot-2026-04-07-175112.png
ORGANIZER;CN="BMS":MAILTO:bookings@britishmuslimstudents.org
END:VEVENT
BEGIN:VEVENT
DTSTART;VALUE=DATE:20241122
DTEND;VALUE=DATE:20241125
DTSTAMP:20260423T183442
CREATED:20260407T115359Z
LAST-MODIFIED:20260409T121016Z
UID:4041-1732233600-1732492799@britishmuslimstudents.co.uk
SUMMARY:Masjid Retreat: SERVE
DESCRIPTION:British Muslim Students presents SERVE – a National Masjid Retreat at Green Lane Masjid. A weekend deep-dive of Islamic Development\, Education and fun memories! \nMasjid Stay-Over | Engaging Workshops | Companionship | Qiyām \n22nd-24th November | Friday Evening to Sunday Afternoon \nWe’ve got a jam-packed weekend ahead of us catered for Students\, Grads and Young Working Professionals – featuring our highly-qualified teachers such as Ustādh Jamal AbdiNasir\, Shaykh Mustafa Abu Rayyan\, Shaykh Adil Saleem\, Ustadh Mustafa Razzaq\, Shaykh Zakaullah Saleem and Ustadha Firdous Umm Yunus \nOur sessions will be highly impactful – tackling core issues of society and providing a safe-space to grow spiritually through Islamic Knowledge and Religious Character Development. \nAccommodation & Food throughout the weekend is FREE!
URL:https://britishmuslimstudents.co.uk/event/masjid-retreat-serve/
ATTACH;FMTTYPE=image/png:https://britishmuslimstudents.co.uk/wp-content/uploads/2026/04/Screenshot-2026-04-07-175414.png
ORGANIZER;CN="BMS":MAILTO:bookings@britishmuslimstudents.org
END:VEVENT
BEGIN:VEVENT
DTSTART;TZID=UTC:20240911T143000
DTEND;TZID=UTC:20240911T153000
DTSTAMP:20260423T183442
CREATED:20260407T124410Z
LAST-MODIFIED:20260409T121623Z
UID:4061-1726065000-1726068600@britishmuslimstudents.co.uk
SUMMARY:Monthly Lecture Online New Year New Start: Navigating University Life as a Muslim Student
DESCRIPTION:New Year\, New Start \nJoin us as we discuss ways of how to successfully navigate through university life while keeping your Muslim identity intact. \nThe lecture will be delivered by Shaykh Yahya Ibrahim on Wednesday 11th September at 2.30pm
URL:https://britishmuslimstudents.co.uk/event/monthly-lecture-online-new-year-new-start-navigating-university-life-as-a-muslim-student-2/
ATTACH;FMTTYPE=image/png:https://britishmuslimstudents.co.uk/wp-content/uploads/2026/04/Screenshot-2026-04-07-175512.png
ORGANIZER;CN="BMS":MAILTO:bookings@britishmuslimstudents.org
END:VEVENT
BEGIN:VEVENT
DTSTART;TZID=UTC:20240831T140000
DTEND;TZID=UTC:20240831T150000
DTSTAMP:20260423T183442
CREATED:20260407T131030Z
LAST-MODIFIED:20260407T131030Z
UID:4082-1725112800-1725116400@britishmuslimstudents.co.uk
SUMMARY:Online Monthly Lecture: Pure Intentions The Battle Within
DESCRIPTION:Monthly Lecture \nPure Intentions (The Battle Within) \nWe are happy to announce the second online monthly lecture for the month of August. \nJoin us as we go through tips and advice on how to achieve pure intentions. \nThe lecture will be delivered by Shaykh Yahya Ibrahim on Thursday 31st August at 2pm.
URL:https://britishmuslimstudents.co.uk/event/online-monthly-lecture-pure-intentions-the-battle-within/
LOCATION:Online
ATTACH;FMTTYPE=image/png:https://britishmuslimstudents.co.uk/wp-content/uploads/2026/04/Screenshot-2026-04-07-180958.png
ORGANIZER;CN="BMS":MAILTO:bookings@britishmuslimstudents.org
END:VEVENT
BEGIN:VEVENT
DTSTART;TZID=UTC:20240710T140000
DTEND;TZID=UTC:20240710T150000
DTSTAMP:20260423T183442
CREATED:20260407T125909Z
LAST-MODIFIED:20260407T125909Z
UID:4073-1720620000-1720623600@britishmuslimstudents.co.uk
SUMMARY:ISOC Action Plan: Essential Skills for ISOC Committees
DESCRIPTION:Asalam Alaykum All! \nBMS is excited to invite you to: \nISOC Action Plan \nJoin us for our online ISOC Action Plan as we develop essential skills for ISOC committees. \n========================= \n🗒Date: Wednesday 10th July \n👤 Speaker: Ustadh Adil Saleem \n📌 Location: Online \n🕑 Time: 2pm – 3pm
URL:https://britishmuslimstudents.co.uk/event/isoc-action-plan-essential-skills-for-isoc-committees/
LOCATION:Online
ATTACH;FMTTYPE=image/png:https://britishmuslimstudents.co.uk/wp-content/uploads/2026/04/Screenshot-2026-04-07-175816.png
ORGANIZER;CN="BMS":MAILTO:bookings@britishmuslimstudents.org
END:VEVENT
BEGIN:VEVENT
DTSTART;TZID=UTC:20231116T180000
DTEND;TZID=UTC:20231116T190000
DTSTAMP:20260423T183442
CREATED:20260407T130425Z
LAST-MODIFIED:20260409T121844Z
UID:4076-1700157600-1700161200@britishmuslimstudents.co.uk
SUMMARY:Monthly Lecture Online Tests & Trials
DESCRIPTION:Monthly Lecture \nTests & Trials \nJoin us as we cover Test & Trials. Why do they happen and what we should do during these times. \nThe lecture will be delivered by Shaykh Abu Taymiyyah on Thursday 16th November at 6pm
URL:https://britishmuslimstudents.co.uk/event/monthly-lecture-online-tests-trials/
LOCATION:Online
ATTACH;FMTTYPE=image/png:https://britishmuslimstudents.co.uk/wp-content/uploads/2026/04/Screenshot-2026-04-07-180356.png
ORGANIZER;CN="BMS":MAILTO:bookings@britishmuslimstudents.org
END:VEVENT
BEGIN:VEVENT
DTSTART;TZID=UTC:20230731T190000
DTEND;TZID=UTC:20230731T200000
DTSTAMP:20260423T183442
CREATED:20260407T131228Z
LAST-MODIFIED:20260409T122456Z
UID:4085-1690830000-1690833600@britishmuslimstudents.co.uk
SUMMARY:Monthly Lecture Online Wise Decisions
DESCRIPTION:Monthly Lecture \nWise Decisions 🤔 \nWe are proud to present the first of our online Monthly Lecture series starting in the month of July. \nJoin us as we go through tips and advice on how to make wiser decisions. \nThe lecture will be delivered by Ustadh Mustafa Razzak on Monday 31st July at 7pm.
URL:https://britishmuslimstudents.co.uk/event/monthly-lecture-online-wise-decisions/
LOCATION:Online
ATTACH;FMTTYPE=image/png:https://britishmuslimstudents.co.uk/wp-content/uploads/2026/04/Screenshot-2026-04-07-181128.png
ORGANIZER;CN="BMS":MAILTO:bookings@britishmuslimstudents.org
END:VEVENT
BEGIN:VEVENT
DTSTART;VALUE=DATE:20230609
DTEND;VALUE=DATE:20230611
DTSTAMP:20260423T183442
CREATED:20260407T131522Z
LAST-MODIFIED:20260409T122622Z
UID:4088-1686268800-1686441599@britishmuslimstudents.co.uk
SUMMARY:Overnight Stay: IGNITE: Preparing ISOCs for the Academic Year
DESCRIPTION:IGNITE\n🔥🔥🔥 \nPreparing ISOCS for the academic year! \nIntroducing a 2-day conference with everything committee members will need to prepare for the next academic year. \n🟣 Overnight stay at Green Lane Masjid \n🟣 Workshops for brothers & sisters \n🟣 Reminders from nationally recognised speakers \nIf you are part of next year’s committee you don’t want to miss this! \nShaykh Adil Saleem \nShaykh Mustafa Abu Rayaan \nUstadh Hisham \nIf you have any questions email bookings@britishmuslimstudents.co.uk
URL:https://britishmuslimstudents.co.uk/event/overnight-stay-ignite-preparing-isocs-for-the-academic-year/
ATTACH;FMTTYPE=image/png:https://britishmuslimstudents.co.uk/wp-content/uploads/2026/04/Screenshot-2026-04-07-181430.png
ORGANIZER;CN="BMS":MAILTO:bookings@britishmuslimstudents.org
END:VEVENT
BEGIN:VEVENT
DTSTART;TZID=UTC:20230504T183000
DTEND;TZID=UTC:20230504T193000
DTSTAMP:20260423T183442
CREATED:20260407T131847Z
LAST-MODIFIED:20260407T131847Z
UID:4091-1683225000-1683228600@britishmuslimstudents.co.uk
SUMMARY:Online Lecture: IMAN AFTER RAMADAN
DESCRIPTION:Iman After Ramadan \n“Ramadan may have ended but the Lord of Ramadan remains. ” \n2 weeks after Ramadan how is your iman? \nHave you stayed consistent? \nJoin us for as we go through tips and advice on how to maintain a high level of Iman after Ramadan. \nThe lecture will be delivered by Ustadh Abu Taymiyyah this Thursday at 6.30pm pm.
URL:https://britishmuslimstudents.co.uk/event/online-lecture-iman-after-ramadan/
LOCATION:Online
ATTACH;FMTTYPE=image/png:https://britishmuslimstudents.co.uk/wp-content/uploads/2026/04/Screenshot-2026-04-07-181746.png
ORGANIZER;CN="BMS":MAILTO:bookings@britishmuslimstudents.org
END:VEVENT
BEGIN:VEVENT
DTSTART;VALUE=DATE:20230403
DTEND;VALUE=DATE:20230406
DTSTAMP:20260423T183442
CREATED:20260407T130816Z
LAST-MODIFIED:20260410T081525Z
UID:4079-1680480000-1680739199@britishmuslimstudents.co.uk
SUMMARY:ISOC Speaker Tour: The Companions of the Cave
DESCRIPTION:The Companions of the Cave \nSpeakers: \nUstadh Jamaal AbdiNasr \nShaykh Mustafa Abu Rayyan \nUstadh Adil Saleem \nGEMS FROM SURAH AL-KAHF \nBMS is excited to announce this year’s ISOC speaker tour! \nLast year\, our theme was Surah Yusuf\, and this year\, our theme will be Surah Al-Kahf! \nAlhamdulilah\, we have secured not 1\, not 2\, but 3 amazing speakers! \nThe tour will be in October\, and each speaker is available during the following dates: 3rd 4th\, 5th\, 10th\, and 12th\, 13th\, 17th\, 18th\, and 19th! \nWe look forward to seeing you all during the tour! \nBarakAllahu Feekum
URL:https://britishmuslimstudents.co.uk/event/isoc-speaker-tour-the-companions-of-the-cave/
ATTACH;FMTTYPE=image/png:https://britishmuslimstudents.co.uk/wp-content/uploads/2026/04/Screenshot-2026-04-07-180734.png
ORGANIZER;CN="BMS":MAILTO:bookings@britishmuslimstudents.org
END:VEVENT
BEGIN:VEVENT
DTSTART;TZID=UTC:20230320T170000
DTEND;TZID=UTC:20230320T180000
DTSTAMP:20260423T183442
CREATED:20260407T132121Z
LAST-MODIFIED:20260407T132121Z
UID:4094-1679331600-1679335200@britishmuslimstudents.co.uk
SUMMARY:Online Lecture: Ramadan Resolution: Overcome Your Desires
DESCRIPTION:RAMADAN RESOLUTION\n🌙🌙🌙🌙🌙🌙🌙🌙🌙 \nAsalam alaykum All! \nWith Ramadan under a week away\, we want to help you prepare! \nJoin us for this important online session with Shaykh Mustafa Abu Rayyan as he goes through how to overcome desires\, make this Ramadan life changing\, and a Ramadan Q&A session! \nBarakallah Feekum
URL:https://britishmuslimstudents.co.uk/event/online-lecture-ramadan-resolution-overcome-your-desires/
LOCATION:Online
ATTACH;FMTTYPE=image/png:https://britishmuslimstudents.co.uk/wp-content/uploads/2026/04/Screenshot-2026-04-07-182044.png
ORGANIZER;CN="BMS":MAILTO:bookings@britishmuslimstudents.org
END:VEVENT
BEGIN:VEVENT
DTSTART;TZID=UTC:20230125T170000
DTEND;TZID=UTC:20230125T180000
DTSTAMP:20260423T183442
CREATED:20260407T132352Z
LAST-MODIFIED:20260409T123026Z
UID:4097-1674666000-1674669600@britishmuslimstudents.co.uk
SUMMARY:Sisters Tarbiyah: Nuturing Through Knowledge ISOC Study Circle
DESCRIPTION:📢Calling all ISOCs📢 \nJoin us for our weekly Sisters ISOC Study Circle every Thursday at 5.00pm during term time. \nThe weekly sessions will be held on campus wherever you are based via live Zoom sessions. \nCome together with other ISOCs and collectively study the religion in shaa Allah \nFor all enquiries\, email bookings@britishmuslimstudents.co.uk
URL:https://britishmuslimstudents.co.uk/event/sisters-tarbiyah-nuturing-through-knowledge-isoc-study-circle/
LOCATION:Online
ATTACH;FMTTYPE=image/png:https://britishmuslimstudents.co.uk/wp-content/uploads/2026/04/Screenshot-2026-04-07-182327.png
ORGANIZER;CN="BMS":MAILTO:bookings@britishmuslimstudents.org
END:VEVENT
BEGIN:VEVENT
DTSTART;TZID=UTC:20221130T143000
DTEND;TZID=UTC:20221130T153000
DTSTAMP:20260423T183442
CREATED:20260407T132913Z
LAST-MODIFIED:20260409T123636Z
UID:4103-1669818600-1669822200@britishmuslimstudents.co.uk
SUMMARY:Khateeb Training
DESCRIPTION:Asalam Alaykum All! \nBMS is excited to invite you to: \n🕌 Khateeb Training 🕌 \nEvery ISOC is doing an amazing job facilitating the Jummah Prayer for the Muslim Students on campus ! \nWhy not train up members of your committee to be able to not just organise the khutba but to deliver it as well! \nJoin us for Khateeb training \n🗒Date: Wed 30th Nov \n👤 Speaker: Shaykh Mustafa Abu Rayyan \n📌 Location: Online \n🕑 Time: 2:30 pm \nIf you would like sign up for this online workshop please DM or email bookings@britishmuslimstudents.co.uk
URL:https://britishmuslimstudents.co.uk/event/khateeb-training/
LOCATION:Online
ATTACH;FMTTYPE=image/png:https://britishmuslimstudents.co.uk/wp-content/uploads/2026/04/Screenshot-2026-04-07-182832.png
ORGANIZER;CN="BMS":MAILTO:bookings@britishmuslimstudents.org
END:VEVENT
BEGIN:VEVENT
DTSTART;TZID=UTC:20221118T180000
DTEND;TZID=UTC:20221118T190000
DTSTAMP:20260423T183442
CREATED:20260407T132632Z
LAST-MODIFIED:20260409T123430Z
UID:4100-1668794400-1668798000@britishmuslimstudents.co.uk
SUMMARY:5 Day Speaker Tour: The Attributes of the Quran
DESCRIPTION:Assalam Alaykum All! \nExciting News! \nWe will be having our second speaker tour of the year with a special guest speaker! \nThe theme we hope to cover will be Attributes of the Quran \nThe tour will be short and only last 5 days. \nThe dates and locations are as follows: \nMonday 21st November\nBristol\nUniversity of Bristol\n6 pm \nThursday 24th November\nSheffield\n5 pm \nFriday 25th November\nGlasgow\nGlasgow University\n6 pm \nMonday 5th December\nBirmingham\nUniversity of Birmingham\n5 pm \nTuesday 6th December\nLondon\nBarts University\n5pm \nBarakAllahu Feekum
URL:https://britishmuslimstudents.co.uk/event/5-day-speaker-tour-the-attributes-of-the-quran/
LOCATION:Online
ATTACH;FMTTYPE=image/png:https://britishmuslimstudents.co.uk/wp-content/uploads/2026/04/Screenshot-2026-04-07-182501.png
ORGANIZER;CN="BMS":MAILTO:bookings@britishmuslimstudents.org
END:VEVENT
BEGIN:VEVENT
DTSTART;VALUE=DATE:20220908
DTEND;VALUE=DATE:20220909
DTSTAMP:20260423T183442
CREATED:20260407T133215Z
LAST-MODIFIED:20260409T123946Z
UID:4106-1662595200-1662681599@britishmuslimstudents.co.uk
SUMMARY:ISOC Speaker Tour: Lessons for Surah Yusuf
DESCRIPTION:Salam Alaykum All! \nExciting News! \nWe will be having our first speaker tour of the year with Ustadh Abu Taymiyyah! \nThe theme we hope to cover will be Lessons for the Muslim Student from Surah Yusuf \nSurah Yusuf: Lessons for the Muslim Students \nThe tour will run between September\, October and November 1st. \nBarakAllahu Feekum
URL:https://britishmuslimstudents.co.uk/event/isoc-speaker-tour/
ATTACH;FMTTYPE=image/png:https://britishmuslimstudents.co.uk/wp-content/uploads/2026/04/Screenshot-2026-04-07-183112.png
ORGANIZER;CN="BMS":MAILTO:bookings@britishmuslimstudents.org
END:VEVENT
BEGIN:VEVENT
DTSTART;TZID=UTC:20220602T170000
DTEND;TZID=UTC:20220602T190000
DTSTAMP:20260423T183442
CREATED:20260407T133432Z
LAST-MODIFIED:20260407T133432Z
UID:4109-1654189200-1654196400@britishmuslimstudents.co.uk
SUMMARY:The Complete ISOC Committee Guide Online
DESCRIPTION:New Workshop!!! \nAll of the tools you need for a successful ISOC year in one online workshop!
URL:https://britishmuslimstudents.co.uk/event/the-complete-isoc-committee-guide-online/
ATTACH;FMTTYPE=image/png:https://britishmuslimstudents.co.uk/wp-content/uploads/2026/04/Screenshot-2026-04-07-183407.png
ORGANIZER;CN="BMS":MAILTO:bookings@britishmuslimstudents.org
END:VEVENT
BEGIN:VEVENT
DTSTART;TZID=UTC:20220407T140000
DTEND;TZID=UTC:20220407T150000
DTSTAMP:20260423T183442
CREATED:20260407T133650Z
LAST-MODIFIED:20260409T124347Z
UID:4112-1649340000-1649343600@britishmuslimstudents.co.uk
SUMMARY:4 Week Online Course: The Purposeful Prayer
DESCRIPTION:The Purposeful Prayer \nSuccessful indeed are the believers: those who humble themselves in prayer_ \nHow can you focus more prayer? \nDo you know the meaning of the statements in the Salah? \nThis Ramadan\, Unlock the wisdoms behind the sayings of the salah in our 4-week online course. \nThe course will be delivered by Shaykh Aqeel Mahmood every Thursday at 2pm\, starting the 7th of April \nDONT MISS OUT!
URL:https://britishmuslimstudents.co.uk/event/4-week-online-course-the-purposeful-prayer/
LOCATION:Online
ATTACH;FMTTYPE=image/png:https://britishmuslimstudents.co.uk/wp-content/uploads/2026/04/Screenshot-2026-04-07-183601.png
ORGANIZER;CN="BMS":MAILTO:bookings@britishmuslimstudents.org
END:VEVENT
BEGIN:VEVENT
DTSTART;TZID=UTC:20220301T140000
DTEND;TZID=UTC:20220405T150000
DTSTAMP:20260423T183442
CREATED:20260407T133948Z
LAST-MODIFIED:20260409T124724Z
UID:4115-1646143200-1649170800@britishmuslimstudents.co.uk
SUMMARY:6-week online course: Building Blocks
DESCRIPTION:Building Blocks \nA 6-week ISOC exclusive course on the fundamental aspects of Islam \nThis course will help you gain a stronger foundation in your understanding of Islam! \nJoin us every Tuesday from 2pm to 3pm \n1st of March – 5th April 2022 \nDelivered by Ustadh Hassan Ali a graduate of Imam University of Riyadh. \nBarakAllah Feekum
URL:https://britishmuslimstudents.co.uk/event/6-week-online-course-building-blocks/
LOCATION:Online
ATTACH;FMTTYPE=image/png:https://britishmuslimstudents.co.uk/wp-content/uploads/2026/04/Screenshot-2026-04-07-183913.png
ORGANIZER;CN="BMS":MAILTO:bookings@britishmuslimstudents.org
END:VEVENT
BEGIN:VEVENT
DTSTART;TZID=UTC:20211124T140000
DTEND;TZID=UTC:20211124T150000
DTSTAMP:20260423T183442
CREATED:20260407T134253Z
LAST-MODIFIED:20260409T124959Z
UID:4118-1637762400-1637766000@britishmuslimstudents.co.uk
SUMMARY:Online webinar: Success on Campus
DESCRIPTION:Success on Campus \nWe all want success\, success in our studies\, finances\, relationships and in our lives in general. \nWhat is true success? \nDoes spiritual well-being contribute to your success? \nCan we develop a balanced lifestyle in order to succeed? \nFind out on Wednesday the 24th of November where Sheikh Yayha Ibraheem will be delivering an online webinar discussing success and how to succeed on campus.
URL:https://britishmuslimstudents.co.uk/event/online-webinar-success-on-campus/
LOCATION:Online
ATTACH;FMTTYPE=image/png:https://britishmuslimstudents.co.uk/wp-content/uploads/2026/04/Screenshot-2026-04-07-184203.png
ORGANIZER;CN="BMS":MAILTO:bookings@britishmuslimstudents.org
END:VEVENT
BEGIN:VEVENT
DTSTART;TZID=UTC:20211117T170000
DTEND;TZID=UTC:20211117T180000
DTSTAMP:20260423T183442
CREATED:20260407T134531Z
LAST-MODIFIED:20260409T125242Z
UID:4121-1637168400-1637172000@britishmuslimstudents.co.uk
SUMMARY:Online Workshop: A Tarbiyah Workshop on the character of the Muslim
DESCRIPTION:Tarbiyah Workshop \nThe Character of The Muslim \nWe all know that the Prophet ﷺ had the best of character\, and we should all strive to implement the way he was in our lives. \nJoin us for an online workshop on Wednesday the 17th of November from 5pm to 6pm\, delivered by Ustadh Hisham Jafar Ali. \nWe will discuss: \nHow to overcome habitual sin \nHow to develop a plan to improve your Salah \nPractical tips on self-improvement and productivity
URL:https://britishmuslimstudents.co.uk/event/online-workshop-a-tarbiyah-workshop-on-the-character-of-the-muslim/
LOCATION:Online
ATTACH;FMTTYPE=image/png:https://britishmuslimstudents.co.uk/wp-content/uploads/2026/04/Screenshot-2026-04-07-184440.png
ORGANIZER;CN="BMS":MAILTO:bookings@britishmuslimstudents.org
END:VEVENT
END:VCALENDAR